BEGIN:VCALENDAR
VERSION:2.0
PRODID:-//Squarespace Inc/Squarespace 6//v6//EN
BEGIN:VEVENT
UID:5f334fcb29fb54274fc25773@squarespace.com
DTSTAMP:20201001T163312Z
DTSTART:20201003T193000Z
DTEND:20201003T213000Z
SUMMARY:The Ruffhouse Tour @ Gaiser Park (Seymour)
GEO:38.947087;-85.886435
LOCATION:Gaiser Park\, 300 S Park Dr\, Seymour\, IN 47274
END:VEVENT
END:VCALENDAR
