BEGIN:VCALENDAR
VERSION:2.0
PRODID:-//Squarespace Inc/Squarespace 6//v6//EN
BEGIN:VEVENT
UID:5f5ced1c6ac3802906e3ded8@squarespace.com
DTSTAMP:20200912T155206Z
DTSTART:20200912T180000Z
DTEND:20200912T190000Z
SUMMARY:Voter Registration Meet and Greet (Bloomington)
GEO:39.167158;-86.533405
LOCATION:Bloomington Town Square\, 116 N Walnut St\, Bloomington\, IN  4740
 4
END:VEVENT
END:VCALENDAR
