BEGIN:VCALENDAR
VERSION:2.0
PRODID:-//Squarespace Inc/Squarespace 6//v6//EN
BEGIN:VEVENT
UID:5f5a8b4f2b8c5d5b7f932b23@squarespace.com
DTSTAMP:20200911T211828Z
DTSTART:20200913T233000Z
DTEND:20200914T003000Z
SUMMARY:Virtual Meet and Greet
GEO:47.445262;-122.245045
LOCATION:https://tinyurl.com/y5c7th7r\, Zoom
END:VEVENT
END:VCALENDAR
