BEGIN:VCALENDAR
VERSION:2.0
PRODID:-//Squarespace Inc/Squarespace 6//v6//EN
BEGIN:VEVENT
UID:5f6e90713ddb8e0b8cdd4499@squarespace.com
DTSTAMP:20200926T005716Z
DTSTART:20200926T140000Z
DTEND:20200926T180000Z
SUMMARY:Touch-a-Truck (Franklin)
GEO:39.482816;-86.067927
LOCATION:Johnson County Fairgrounds\, 250 Fairground St.\, Franklin\, IN 46
 131
END:VEVENT
END:VCALENDAR
