BEGIN:VCALENDAR
VERSION:2.0
PRODID:-//Squarespace Inc/Squarespace 6//v6//EN
BEGIN:VEVENT
UID:5f76051e09e8f1132f92cd40@squarespace.com
DTSTAMP:20201018T045435Z
DTSTART:20201018T170000Z
DTEND:20201018T183000Z
SUMMARY:The Ruffhouse Tour @ Otis Band Shell (Bedford)
GEO:38.858272;-86.451622
LOCATION:Otis Park Band Shell\, 607 Tunnelton Rd\, Bedford\, IN 47421
END:VEVENT
END:VCALENDAR
