BEGIN:VCALENDAR
VERSION:2.0
PRODID:-//Squarespace Inc/Squarespace 6//v6//EN
BEGIN:VEVENT
UID:5f3841bb6ced5e0ad448a609@squarespace.com
DTSTAMP:20200831T020655Z
DTSTART:20200902T123400Z
DTEND:20200902T130000Z
SUMMARY:'Talk of the Town'
END:VEVENT
END:VCALENDAR
