BEGIN:VCALENDAR
VERSION:2.0
PRODID:-//Squarespace Inc/Squarespace 6//v6//EN
BEGIN:VEVENT
UID:5f3343d1dfbefb5c121a5874@squarespace.com
DTSTAMP:20200815T202850Z
DTSTART:20200819T120000Z
DTEND:20200819T170000Z
SUMMARY:Senior Fair (Bedford)
GEO:38.882243;-86.452759
LOCATION:Sherwood Oaks Christian Church\, 508 Fellowship Drive\, Bedford\, 
 IN 47421\, USA
END:VEVENT
END:VCALENDAR
