BEGIN:VCALENDAR
VERSION:2.0
PRODID:-//Squarespace Inc/Squarespace 6//v6//EN
BEGIN:VEVENT
UID:5f335600ba1e28579593c371@squarespace.com
DTSTAMP:20200815T203357Z
DTSTART:20200822T133000Z
DTEND:20200822T153000Z
SUMMARY:New Albany Farmer's Market
GEO:38.285072;-85.821165
LOCATION:New Albany Farmers Market\, 202 E Market St\, New Albany\, IN  471
 50
END:VEVENT
END:VCALENDAR
