BEGIN:VCALENDAR
VERSION:2.0
PRODID:-//Squarespace Inc/Squarespace 6//v6//EN
BEGIN:VEVENT
UID:5f3848f97b61860287be87a0@squarespace.com
DTSTAMP:20200815T204612Z
DTSTART:20200823T150000Z
DTEND:20200823T180000Z
SUMMARY:Nashville Farmers Market
GEO:39.201609;-86.246016
LOCATION:Brown County Inn\, 51 State Road 46\, Nashville\, IN\, 47448\, Uni
 ted States
END:VEVENT
END:VCALENDAR
