BEGIN:VCALENDAR
VERSION:2.0
PRODID:-//Squarespace Inc/Squarespace 6//v6//EN
BEGIN:VEVENT
UID:5f334cb906d3f74520b1152a@squarespace.com
DTSTAMP:20200815T203003Z
DTSTART:20200822T160000Z
DTEND:20200822T180000Z
SUMMARY:Meet the Candidates (Clarksville)
GEO:38.304401;-85.75903
LOCATION:Gateway Park\, Little League Blvd\, Clarksville\, IN 47129
END:VEVENT
END:VCALENDAR
