BEGIN:VCALENDAR
VERSION:2.0
PRODID:-//Squarespace Inc/Squarespace 6//v6//EN
BEGIN:VEVENT
UID:5f56fa58fab9b365a27b156b@squarespace.com
DTSTAMP:20200908T035025Z
DTSTART:20200908T223000Z
DTEND:20200909T010000Z
SUMMARY:Meet and Greet the Candidates
GEO:38.254233;-86.12306
LOCATION:3629 Hwy 135 NE\, Corydon\, IN  47112
END:VEVENT
END:VCALENDAR
