BEGIN:VCALENDAR
VERSION:2.0
PRODID:-//Squarespace Inc/Squarespace 6//v6//EN
BEGIN:VEVENT
UID:5f5cf00302b4ba0be6df09bc@squarespace.com
DTSTAMP:20200912T164836Z
DTSTART:20200913T200000Z
DTEND:20200913T210000Z
SUMMARY:Mayor Hamilton Dem. Candidate Meet and Greet (Virtual)
END:VEVENT
END:VCALENDAR
