BEGIN:VCALENDAR
VERSION:2.0
PRODID:-//Squarespace Inc/Squarespace 6//v6//EN
BEGIN:VEVENT
UID:5f487ba82fba5e4ed0eb19a4@squarespace.com
DTSTAMP:20200831T020752Z
DTSTART:20200902T230000Z
DTEND:20200903T000000Z
SUMMARY:Indiana University College Dems Callout
END:VEVENT
END:VCALENDAR
