BEGIN:VCALENDAR
VERSION:2.0
PRODID:-//Squarespace Inc/Squarespace 6//v6//EN
BEGIN:VEVENT
UID:5f48754c969eef115e21745b@squarespace.com
DTSTAMP:20200828T032813Z
DTSTART:20200830T180000Z
DTEND:20200830T210000Z
SUMMARY:Henryville Parade and Community Day
GEO:38.537151;-85.767025
LOCATION:Monroe Township Fire Department\, 315 South Ferguson Street\, Henr
 yville\, IN\, 47126\, United States
END:VEVENT
END:VCALENDAR
