BEGIN:VCALENDAR
VERSION:2.0
PRODID:-//Squarespace Inc/Squarespace 6//v6//EN
BEGIN:VEVENT
UID:5f488026d0133d2baea853d3@squarespace.com
DTSTAMP:20200908T035327Z
DTSTART:20200908T140000Z
DTEND:20200908T160000Z
SUMMARY:Floyd/Clark Building &amp\; Construction Trades Council
GEO:38.295213;-85.830006
LOCATION:1213 State Street\, New Albany\, IN 47150\, USA
END:VEVENT
END:VCALENDAR
